BEGIN:VCALENDAR
VERSION:2.0
PRODID:-//hacksw/handcal//NONSGML v1.0//EN
BEGIN:VEVENT
SUMMARY:Lesparre Avenirs 1
UID:94236878-f3a4-442c-9551-e3a722aa196c
DTSTART:20260513T120000Z
DTEND:20260513T130000Z
LOCATION:Localisation Centre Aqua Medoc 21 bis route de Bordeaux 33340 Lesparre Medoc
CATEGORIES:Sportif
STATUS:
URL;VALUE=URI:https://sam-natation-lesparre.sportsregions.fr/evenements/2026/05/13/lesparre-avenirs-1-2437248
END:VEVENT
END:VCALENDAR
