BEGIN:VCALENDAR
VERSION:2.0
PRODID:-//hacksw/handcal//NONSGML v1.0//EN
BEGIN:VEVENT
SUMMARY:Pauillac Groupe Competition & Benjamins Juniors Masters
UID:aed098c1-d1be-4baa-9a8b-599f852cd9b6
DTSTART:20260512T170000Z
DTEND:20260512T183000Z
LOCATION:Localisation Stade Nautique 1 rue Mandavy 33250 Pauillac
CATEGORIES:Sportif
STATUS:
URL;VALUE=URI:https://sam-natation-lesparre.sportsregions.fr/evenements/2026/05/12/pauillac-groupe-competition-benjamins-juniors-masters-2437369
END:VEVENT
END:VCALENDAR
