BEGIN:VCALENDAR
VERSION:2.0
PRODID:-//hacksw/handcal//NONSGML v1.0//EN
BEGIN:VEVENT
SUMMARY:Pauillac Avenirs 123
UID:b9e62706-a952-4b0c-a569-26ae95fb90ce
DTSTART:20260512T160000Z
DTEND:20260512T170000Z
LOCATION:Localisation Stade Nautique 1 rue Mandavy 33250 Pauillac
CATEGORIES:Sportif
STATUS:
URL;VALUE=URI:https://sam-natation-lesparre.sportsregions.fr/evenements/2026/05/12/pauillac-avenirs-123-2437358
END:VEVENT
END:VCALENDAR
