BEGIN:VCALENDAR
VERSION:2.0
PRODID:-//hacksw/handcal//NONSGML v1.0//EN
BEGIN:VEVENT
SUMMARY:Pauillac Groupe Competition & Benjamins Juniors Masters
UID:c8d1738c-5a41-4f98-993f-c24787d5e3c1
DTSTART:20260509T130000Z
DTEND:20260509T140000Z
LOCATION:Localisation Stade Nautique 1 rue Mandavy 33250 Pauillac
CATEGORIES:Sportif
STATUS:
URL;VALUE=URI:https://sam-natation-lesparre.sportsregions.fr/evenements/2026/05/09/pauillac-groupe-competition-benjamins-juniors-masters-2437394
END:VEVENT
END:VCALENDAR
