BEGIN:VCALENDAR
VERSION:2.0
PRODID:-//hacksw/handcal//NONSGML v1.0//EN
BEGIN:VEVENT
SUMMARY:Pauillac Avenirs 123
UID:5315128b-6dcc-49e7-a3cd-0b54dad833b9
DTSTART:20260509T120000Z
DTEND:20260509T130000Z
LOCATION:Localisation Stade Nautique 1 rue Mandavy 33250 Pauillac
CATEGORIES:Sportif
STATUS:
URL;VALUE=URI:https://sam-natation-lesparre.sportsregions.fr/evenements/2026/05/09/pauillac-avenirs-123-2437383
END:VEVENT
END:VCALENDAR
