BEGIN:VCALENDAR
VERSION:2.0
PRODID:-//hacksw/handcal//NONSGML v1.0//EN
BEGIN:VEVENT
SUMMARY:Lesparre Debutants
UID:7802b293-4c1f-49cd-9213-3f647fdf6e67
DTSTART:20260509T090000Z
DTEND:20260509T100000Z
LOCATION:Localisation Centre Aqua Medoc 21 bis route de Bordeaux 33340 Lesparre Medoc
CATEGORIES:Sportif
STATUS:
URL;VALUE=URI:https://sam-natation-lesparre.sportsregions.fr/evenements/2026/05/09/lesparre-debutants-2437324
END:VEVENT
END:VCALENDAR
