BEGIN:VCALENDAR
VERSION:2.0
PRODID:-//hacksw/handcal//NONSGML v1.0//EN
BEGIN:VEVENT
SUMMARY:Lesparre Avenirs 1
UID:73224c5c-43fd-46ec-954a-be86c5ef15ed
DTSTART:20260506T120000Z
DTEND:20260506T130000Z
LOCATION:Localisation Centre Aqua Medoc 21 bis route de Bordeaux 33340 Lesparre Medoc
CATEGORIES:Sportif
STATUS:
URL;VALUE=URI:https://sam-natation-lesparre.sportsregions.fr/evenements/2026/05/06/lesparre-avenirs-1-2437251
END:VEVENT
END:VCALENDAR
