BEGIN:VCALENDAR
VERSION:2.0
PRODID:-//hacksw/handcal//NONSGML v1.0//EN
BEGIN:VEVENT
SUMMARY:Lesparre Groupe Competition
UID:6684de09-6d85-4e83-a8a6-77ed1981adcf
DTSTART:20260430T173000Z
DTEND:20260430T190000Z
LOCATION:Localisation Centre Aqua Medoc 21 bis route de Bordeaux 33340 Lesparre Medoc
CATEGORIES:Sportif
STATUS:
URL;VALUE=URI:https://sam-natation-lesparre.sportsregions.fr/evenements/2026/04/30/lesparre-groupe-competition-2437229
END:VEVENT
END:VCALENDAR
