BEGIN:VCALENDAR
VERSION:2.0
PRODID:-//hacksw/handcal//NONSGML v1.0//EN
BEGIN:VEVENT
SUMMARY:Pauillac Debutants
UID:ffd67502-4f61-47c8-b14b-8a6a8222efae
DTSTART:20260428T150000Z
DTEND:20260428T160000Z
LOCATION:Localisation Stade Nautique 1 rue Mandavy 33250 Pauillac
CATEGORIES:Sportif
STATUS:
URL;VALUE=URI:https://sam-natation-lesparre.sportsregions.fr/evenements/2026/04/28/pauillac-debutants-2437353
END:VEVENT
END:VCALENDAR
