BEGIN:VCALENDAR
VERSION:2.0
PRODID:-//hacksw/handcal//NONSGML v1.0//EN
BEGIN:VEVENT
SUMMARY:Pauillac Avenirs 123
UID:48184ea7-601d-48ff-bb4f-6d7e9fd83c92
DTSTART:20260428T160000Z
DTEND:20260428T170000Z
LOCATION:Localisation Stade Nautique 1 rue Mandavy 33250 Pauillac
CATEGORIES:Sportif
STATUS:
URL;VALUE=URI:https://sam-natation-lesparre.sportsregions.fr/evenements/2026/04/28/pauillac-avenirs-123-2437364
END:VEVENT
END:VCALENDAR
