BEGIN:VCALENDAR
VERSION:2.0
PRODID:-//hacksw/handcal//NONSGML v1.0//EN
BEGIN:VEVENT
SUMMARY:Pauillac Avenirs 123
UID:6e3dda2b-4b92-4fbf-8b5e-06bba677a9e8
DTSTART:20260425T120000Z
DTEND:20260425T130000Z
LOCATION:Localisation Stade Nautique 1 rue Mandavy 33250 Pauillac
CATEGORIES:Sportif
STATUS:
URL;VALUE=URI:https://sam-natation-lesparre.sportsregions.fr/evenements/2026/04/25/pauillac-avenirs-123-2437376
END:VEVENT
END:VCALENDAR
