BEGIN:VCALENDAR
VERSION:2.0
PRODID:-//hacksw/handcal//NONSGML v1.0//EN
BEGIN:VEVENT
SUMMARY:Lesparre Debutants
UID:4102e3ed-79f6-468b-a95c-f8c69e28b1c4
DTSTART:20260425T090000Z
DTEND:20260425T100000Z
LOCATION:Localisation Centre Aqua Medoc 21 bis route de Bordeaux 33340 Lesparre Medoc
CATEGORIES:Sportif
STATUS:
URL;VALUE=URI:https://sam-natation-lesparre.sportsregions.fr/evenements/2026/04/25/lesparre-debutants-2437315
END:VEVENT
END:VCALENDAR
