BEGIN:VCALENDAR
VERSION:2.0
PRODID:-//hacksw/handcal//NONSGML v1.0//EN
BEGIN:VEVENT
SUMMARY:Lesparre Benjamins Juniors
UID:084df5f8-ec3a-42b4-864f-4307ed179ce1
DTSTART:20260425T070000Z
DTEND:20260425T080000Z
LOCATION:Localisation Centra Aqua Medoc 21 bis route de Bordeaux 33340 Lesparre Medoc
CATEGORIES:Sportif
STATUS:
URL;VALUE=URI:https://sam-natation-lesparre.sportsregions.fr/evenements/2026/04/25/lesparre-benjamins-juniors-2437291
END:VEVENT
END:VCALENDAR
