BEGIN:VCALENDAR
VERSION:2.0
PRODID:-//hacksw/handcal//NONSGML v1.0//EN
BEGIN:VEVENT
SUMMARY:Lesparre Avenirs 1
UID:9175d0b7-d236-41dc-bb37-3892e5c0625e
DTSTART:20260425T080000Z
DTEND:20260425T090000Z
LOCATION:Localisation Centre Aqua Medoc 21 bis route de Bordeaux 33340 Lesparre Medoc
CATEGORIES:Sportif
STATUS:
URL;VALUE=URI:https://sam-natation-lesparre.sportsregions.fr/evenements/2026/04/25/lesparre-avenirs-1-2437302
END:VEVENT
END:VCALENDAR
