BEGIN:VCALENDAR
VERSION:2.0
PRODID:-//hacksw/handcal//NONSGML v1.0//EN
BEGIN:VEVENT
SUMMARY:Lesparre Groupe Competition
UID:8f9b827a-4c26-4e89-9022-f1c19aa70000
DTSTART:20260423T173000Z
DTEND:20260423T190000Z
LOCATION:Localisation Centre Aqua Medoc 21 bis route de Bordeaux 33340 Lesparre Medoc
CATEGORIES:Sportif
STATUS:
URL;VALUE=URI:https://sam-natation-lesparre.sportsregions.fr/evenements/2026/04/23/lesparre-groupe-competition-2437217
END:VEVENT
END:VCALENDAR
