BEGIN:VCALENDAR
VERSION:2.0
PRODID:-//hacksw/handcal//NONSGML v1.0//EN
BEGIN:VEVENT
SUMMARY:Lesparre Benjamins Juniors
UID:a768123f-147e-43d4-a3d6-118287b53ff6
DTSTART:20260423T160000Z
DTEND:20260423T170000Z
LOCATION:Localisation Centre Aqua Medoc 21 bis route de Bordeaux 33340 Lesparre Medoc
CATEGORIES:Sportif
STATUS:
URL;VALUE=URI:https://sam-natation-lesparre.sportsregions.fr/evenements/2026/04/23/lesparre-benjamins-juniors-2437265
END:VEVENT
END:VCALENDAR
