BEGIN:VCALENDAR
VERSION:2.0
PRODID:-//hacksw/handcal//NONSGML v1.0//EN
BEGIN:VEVENT
SUMMARY:Lesparre Avenirs 2&3
UID:2c49c8c9-cc63-4732-b7e7-97cef56f5c31
DTSTART:20260422T130000Z
DTEND:20260422T140000Z
LOCATION:Localisation Centre Aqua Medoc 21 bis route de Bordeaux 33340 Lesparre Medoc
CATEGORIES:Sportif
STATUS:
URL;VALUE=URI:https://sam-natation-lesparre.sportsregions.fr/evenements/2026/04/22/lesparre-avenirs-23-2437254
END:VEVENT
END:VCALENDAR
