BEGIN:VCALENDAR
VERSION:2.0
PRODID:-//hacksw/handcal//NONSGML v1.0//EN
BEGIN:VEVENT
SUMMARY:Pauillac Groupe Competition & Benjamins Juniors Masters
UID:0ed29e69-205f-47b8-907b-98cdc1eb5f4c
DTSTART:20260421T170000Z
DTEND:20260421T183000Z
LOCATION:Localisation Stade Nautique 1 rue Mandavy 33250 Pauillac
CATEGORIES:Sportif
STATUS:
URL;VALUE=URI:https://sam-natation-lesparre.sportsregions.fr/evenements/2026/04/21/pauillac-groupe-competition-benjamins-juniors-masters-2437365
END:VEVENT
END:VCALENDAR
