BEGIN:VCALENDAR
VERSION:2.0
PRODID:-//hacksw/handcal//NONSGML v1.0//EN
BEGIN:VEVENT
SUMMARY:Pauillac Debutants
UID:2a29aac4-cb9f-428a-a46c-cc6e807e3760
DTSTART:20260421T150000Z
DTEND:20260421T160000Z
LOCATION:Localisation Stade Nautique 1 rue Mandavy 33250 Pauillac
CATEGORIES:Sportif
STATUS:
URL;VALUE=URI:https://sam-natation-lesparre.sportsregions.fr/evenements/2026/04/21/pauillac-debutants-2437343
END:VEVENT
END:VCALENDAR
