BEGIN:VCALENDAR
VERSION:2.0
PRODID:-//hacksw/handcal//NONSGML v1.0//EN
BEGIN:VEVENT
SUMMARY:Lesparre Groupe competition
UID:44993d20-3146-4372-bedf-522229f74a5c
DTSTART:20260421T173000Z
DTEND:20260421T190000Z
LOCATION:Localisation Centre Aqua Medoc 21 bis route de Bordeaux 33340 Lesparre Medoc
CATEGORIES:Sportif
STATUS:
URL;VALUE=URI:https://sam-natation-lesparre.sportsregions.fr/evenements/2026/04/21/lesparre-groupe-competition-2437185
END:VEVENT
END:VCALENDAR
